BEGIN:VCALENDAR
VERSION:2.0
PRODID:-//AISA Lombardia - ECPv6.15.15//NONSGML v1.0//EN
CALSCALE:GREGORIAN
METHOD:PUBLISH
X-ORIGINAL-URL:https://lombardia.aisaitalia.org
X-WR-CALDESC:Eventi per AISA Lombardia
REFRESH-INTERVAL;VALUE=DURATION:PT1H
X-Robots-Tag:noindex
X-PUBLISHED-TTL:PT1H
BEGIN:VTIMEZONE
TZID:Europe/Rome
BEGIN:DAYLIGHT
TZOFFSETFROM:+0100
TZOFFSETTO:+0200
TZNAME:CEST
DTSTART:20170326T010000
END:DAYLIGHT
BEGIN:STANDARD
TZOFFSETFROM:+0200
TZOFFSETTO:+0100
TZNAME:CET
DTSTART:20171029T010000
END:STANDARD
BEGIN:DAYLIGHT
TZOFFSETFROM:+0100
TZOFFSETTO:+0200
TZNAME:CEST
DTSTART:20180325T010000
END:DAYLIGHT
BEGIN:STANDARD
TZOFFSETFROM:+0200
TZOFFSETTO:+0100
TZNAME:CET
DTSTART:20181028T010000
END:STANDARD
BEGIN:DAYLIGHT
TZOFFSETFROM:+0100
TZOFFSETTO:+0200
TZNAME:CEST
DTSTART:20190331T010000
END:DAYLIGHT
BEGIN:STANDARD
TZOFFSETFROM:+0200
TZOFFSETTO:+0100
TZNAME:CET
DTSTART:20191027T010000
END:STANDARD
END:VTIMEZONE
BEGIN:VEVENT
DTSTART;TZID=Europe/Rome:20181201T204500
DTEND;TZID=Europe/Rome:20181201T233000
DTSTAMP:20260419T161431
CREATED:20181116T115311Z
LAST-MODIFIED:20181116T115311Z
UID:1113-1543697100-1543707000@lombardia.aisaitalia.org
SUMMARY:Concerto Gospel di Natale di beneficenza 2018
DESCRIPTION:Concerto Gospel di Natale di beneficenza sabato 1 dicembre\, alle ore 20.45 presso la Parrocchia di SS. Martino e Riccardo Pampuri – Via Francesco d’Assisi – Peschiera Borromeo. \n \nTorna il meraviglioso Coro CGS UNA VOCE ( https://www.cgsunavoce.com ) accompagnato dal coro di Bimbi “ZEROSEDICI” per cantare per AISA Sezione Lombarda ONLUS. \nDirettore: Il Maestro Aleksander Zielinski e al pianoforte il bravissimo Roberto Binetti. \n \n  \n  \nNon perdere questo emozionante spettacolo! \n  \n 
URL:https://lombardia.aisaitalia.org/evento/concerto-gospel-di-natale-di-beneficenza-2018/
LOCATION:Parrocchia di SS. Martino e Riccardo Pampuri\, Via Francesco d’Assisi\, Peschiera Borromeo\, MI\, 20068\, Italia
END:VEVENT
END:VCALENDAR